Workbook

Sheet 附表一
A1: 附表一
A2: 课程计划进程表
A3: 课程性质 | D3: 课程 中文名称 | E3: 课程 英文名称 | F3: 课程学分、学时分配 | J3: 各学年、学期每周课内学时
F4: 学分 | G4: 总 学时 | H4: 讲授学时 | I4: 实践学时 | J4: 1学年 | L4: 2学年 | N4: 3学年 | P4: 4学年
J5: 1 | K5: 2 | L5: 3 | M5: 4 | N5: 5 | O5: 6 | P5: 7 | Q5: 8
A6: 公共教育 | B6: 公共 必修 | C6: 数学与自然科学 | D6: 高等数学（1） | E6: Advanced Mathematics (1) | F6: 4 | G6: 72 | H6: 72 | I6: 0 | J6: 4
D7: 线性代数 | E7: Linear algebra and experiment | F7: 3 | G7: 54 | H7: 54 | I7: 0 | J7: 3
D8: 高等数学（2） | E8: Advanced Mathematics (2) | F8: 5 | G8: 90 | H8: 90 | I8: 0 | K8: 5
D9: 大学物理（1） | E9: College Physics (1) | F9: 3 | G9: 54 | H9: 54 | I9: 0 | K9: 3
D10: 大学物理（2） | E10: College Physics (2) | F10: 2 | G10: 36 | H10: 36 | I10: 0 | L10: 2
D11: 离散数学 | E11: Discrete Mathematics | F11: 3 | G11: 54 | H11: 54 | I11: 0 | M11: 3
D12: 概率论与数理统计 | E12: Probability Theory and Mathematical Statistics | F12: 3 | G12: 54 | H12: 54 | I12: 0 | N12: 3
C13: 大学英语课 | D13: 大学英语（一） | E13: College English (1) | F13: 4 | G13: =F13*18 -> 72 | H13: 72 | I13: 0 | J13: 3
D14: 大学英语（二） | E14: College English (2) | F14: 4 | G14: =F14*18 -> 72 | H14: 72 | I14: 0 | K14: 3
D15: 大学英语（三） | E15: College English (3) | F15: 4 | G15: =F15*18 -> 72 | H15: 72 | I15: 0 | L15: 3
C16: 大学体育课 | D16: 大学体育（一） | E16: Physical Education (1) | F16: 1 | G16: 36 | H16: 4 | I16: 32 | J16: 2
D17: 大学体育（二） | E17: Physical Education (2) | F17: 1 | G17: 36 | H17: 4 | I17: 32 | K17: 2
D18: 大学体育（三） | E18: Physical Education (3) | F18: 1 | G18: 36 | H18: 4 | I18: 32 | L18: 2
D19: 大学体育（四） | E19: Physical Education (4) | F19: 1 | G19: 36 | H19: 4 | I19: 32 | M19: 2
C20: 思政必修课 | D20: 习近平新时代中国特色社会主义思想概论 | E20: Introduction to Xi Jinping's Socialist Thought with Chinese Characteristics for a New Era | F20: 3 | G20: 54 | H20: 54 | I20: 0 | J20: 3
C21: 思政必修课 | D21: 中国近现代史纲要 | E21: Outline of Modern History of China | F21: 3 | G21: 54 | H21: 54 | I21: 0 | K21: 3
D22: 思想道德与法治 | E22: Ideological Morality and Rule of Law | F22: 3 | G22: 54 | H22: 54 | I22: 0 | K22: 3
D23: 国家安全教育 | E23: National Security Education | F23: 1 | G23: 18 | H23: 18 | I23: 0 | L23: 1
D24: 毛泽东思想和中国特色社会主义理论体系概论 | E24: Mao Zedong Thought and Theoretical System of Socialism with Chinese Characteristics | F24: 3 | G24: 54 | H24: 36 | I24: 18 | L24: 3
D25: 马克思主义基本原理 | E25: Introduction to the Basic Principle of Marxism | F25: 3 | G25: 54 | H25: 54 | I25: 0 | M25: 3
D26: 形势与政策 | E26: Situation and Policy | F26: 2 | G26: 36 | H26: 36 | I26: 0 | O26: 2
C27: 通识必修课 | D27: 人文价值 （选修2门） | E27: Humanistic Value | F27: 1 | G27: 18 | H27: 18 | I27: 0 | J27: 4学分【修读要求：学生需从人文价值模块选修2学分，从全球视野、科技应用和交叉创新三个模块选修2学分（3个模块选修其中2个模块），合计修满4学分】
D28: 全球视野 | E28: Global Perspective | F28: 1 | G28: 18 | H28: 18 | I28: 0
D29: 科技应用 | E29: Technology Application | F29: 1 | G29: 18 | H29: 18 | I29: 0
D30: 交叉创新 | E30: Cross-innovation | F30: 1 | G30: 18 | H30: 18 | I30: 0
D31: 军事理论 | E31: Military Theory and Military Skills | F31: 2 | G31: 36 | H31: 36 | I31: 0 | J31: 2
D32: 军事技能 | E32: Military Skills | F32: 2 | G32: 2周（112学时） | H32: 0 | I32: 2周（112学时） | J32: 2
D33: 大学生心理健康教育 | E33: Mental Health Education Of College Students | F33: 2 | G33: 36 | H33: 36 | I33: 0 | J33: 2
D34: 创业基础（理论） | E34: Foundation of Establishing a business（Theory） | F34: 1 | G34: 18 | H34: 18 | I34: 0 | N34: 2
C35: 劳动教育课 | D35: 劳动教育 | E35: Labor Education | F35: 2 | G35: 36 | H35: 20 | I35: 16 | L35: 2
B36: 公共必修应修学分（学时）合计 | F36: =SUM(F6:F35) -> 70 | G36: =I36+H36 -> 1408 | H36: =SUM(H6:H35) -> 1134 | I36: =SUM(I33:I35,I6:I31)+112 -> 274 | J36: =SUM(J31:J35,J6:J26) -> 21 | K36: =SUM(K31:K35,K6:K26) -> 19 | L36: =SUM(L31:L35,L6:L26) -> 13 | M36: =SUM(M31:M35,M6:M26) -> 8 | N36: =SUM(N6:N35) -> 5 | O36: =SUM(O6:O35) -> 2 | P36: =SUM(P6:P35) -> 0 | Q36: =SUM(Q6:Q35) -> 0
B37: 公共 选修课 | C37: 美育限定性 选修课 | D37: 美育限定性选修课须修读满2学分
C38: 校级公选课、学术报告型公选课、社会实践活动认定 | D38: 校级公选课、学术报告型公选课、社会实践活动认定须修读满2学分
C39: 指选课 | D39: 大学生成长成才导论 | E39: Introduction to Growthand Success for College Students | F39: 2 | G39: 36 | H39: 36 | I39: 0 | J39: 2
B40: 公共选修应修学分（学时）合计 | F40: 6 | G40: 109 | H40: 76 | I40: 33 | J40: 2 | K40: 0 | L40: 0 | M40: 0 | N40: 0 | O40: 0 | P40: 0 | Q40: 0
A41: 专业教育 | B41: 专业 必修 | C41: 专业基础课 | D41: 计算机科学导论 | E41: Introduction to Computer Science | F41: 1 | G41: 18 | H41: 18 | I41: 0 | J41: 3
D42: 高级语言程序设计 | E42: Advance Language Programming | F42: 2 | G42: 36 | H42: 36 | I42: 0 | J42: 3
D43: 数据结构与算法 | E43: Data Structures and Algorithm | F43: 3 | G43: 54 | H43: 54 | I43: 0 | L43: 3
D44: 计算机组成原理 | E44: Computer Principle Experiments | F44: 2 | G44: 36 | H44: 36 | I44: 0 | L44: 3
D45: 操作系统原理 | E45: Principle of Operating System | F45: 2 | G45: 36 | H45: 36 | I45: 0 | M45: 3
D46: 计算机网络 | E46: Computer network | F46: 2 | G46: 36 | H46: 36 | I46: 0 | M46: 3
C47: 专业基础课应修学分（学时）合计 | F47: =SUM(F41:F46) -> 12 | G47: =SUM(G41:G46) -> 216 | H47: =SUM(H41:H46) -> 216 | I47: =SUM(I41:I46) -> 0 | J47: =SUM(J41:J46) -> 6 | K47: =SUM(K41:K46) -> 0 | L47: =SUM(L41:L46) -> 6 | M47: =SUM(M41:M46) -> 6 | ... Q47: =SUM(Q41:Q46) -> 0
C48: 专业核心课 | D48: 面向对象程序设计 | E48: Object Oriented Programming | F48: 1.5+1.5 | G48: 54 | H48: 27 | I48: 27 | K48: 3
D49: 电路与模拟电子技术 | E49: Circuit and Analog Electronic Technology | F49: 3 | G49: 54 | H49: 54 | I49: 0 | K49: 3
D50: Python程序设计 | E50: Python Programming | F50: 1+1 | G50: 36 | H50: 18 | I50: 18 | L50: 2
D51: 数据库原理 | E51: Principle of Database | F51: 1.5+1.5 | G51: 54 | H51: 36 | I51: 18 | M51: 3
D52: 数字电路与逻辑设计 | E52: Digital Circuit and Logic Design | F52: 2 | G52: 36 | H52: 36 | I52: 0 | N52: 3
D53: 软件工程 | E53: Software Engineering | F53: 2 | G53: 36 | H53: 36 | I53: 0 | N53: 3
D54: 嵌入式系统 | E54: Embedded System | F54: 2 | G54: 36 | H54: 36 | I54: 0 | N54: 3
D55: 软件测试与质量保证 | E55: Software Testing and Quality Assurance | F55: 1+1 | G55: 36 | H55: 18 | I55: 18 | O55: 2
C56: 专业核心课应修学分（学时）合计 | F56: 19 | G56: =SUM(G48:G55) -> 342 | H56: =SUM(H48:H55) -> 261 | I56: =SUM(I48:I55) -> 81 | J56: =SUM(J48:J55) -> 0 | K56: =SUM(K48:K55) -> 6 | L56: =SUM(L48:L55) -> 2 | M56: =SUM(M48:M55) -> 3 | N56: =SUM(N48:N55) -> 9 | ... Q56: =SUM(Q48:Q55) -> 0
B57: 专业必修应修学分（学时）合计 | F57: =SUM(F56,F47) -> 31 | G57: =SUM(G56,G47) -> 558 | H57: =SUM(H56,H47) -> 477 | I57: =SUM(I56,I47) -> 81 | J57: =SUM(J56,J47) -> 6 | K57: =SUM(K56,K47) -> 6 | L57: =SUM(L56,L47) -> 8 | M57: =SUM(M56,M47) -> 9 | ... Q57: =SUM(Q56,Q47) -> 0
B58: 专业选修课 | C58: 方向1 人工智能 | D58: 人工智能基础与应用 | E58: Fundamentals of Artificial Intelligence with Applications | F58: 1 | G58: 20 | H58: 0 | I58: 20 | K58: 2
D59: 机器学习 | E59: Machine Learning | F59: 2 | G59: 36 | H59: 18 | I59: 18 | N59: 2
D60: 计算机视觉及应用 | E60: Computer Vision and Application | F60: 1+1 | G60: 36 | H60: 18 | I60: 18 | N60: 2
D61: 大语言模型与应用 | E61: Large Language Modeling and Applications | F61: 1+1 | G61: 36 | H61: 18 | I61: 18 | O61: 2
C62: 方向2 网络安全 | D62: 密码学基础与应用 | E62: Fundamentals and Applications of Cryptography | F62: 1+1 | G62: 36 | H62: 18 | I62: 18 | M62: 2
D63: 网络攻击与防范 | E63: Network Attacks and Prevention | F63: 1+1 | G63: 36 | H63: 18 | I63: 18 | N63: 2
D64: 信息安全技术 | E64: Information Security Technology | F64: 1+1 | G64: 36 | H64: 18 | I64: 18 | O64: 2
C65: 方向3 计算机应用 | D65: Web编程技术 | E65: Web Programming Technology | F65: 1+1 | G65: 36 | H65: 18 | I65: 18 | M65: 2
D66: 移动应用开发 | E66: Android Application Development | F66: 1+1 | G66: 36 | H66: 18 | I66: 18 | N66: 2
D67: 软件项目管理 | E67: Software Project Management | F67: 1+1 | G67: 36 | H67: 18 | I67: 18 | O67: 2
D68: 系统分析与设计 | E68: System Analysis and Design | F68: 1+1 | G68: 36 | H68: 18 | I68: 18 | O68: 2
C69: 专业选修课 | D69: 游戏策划 | E69: Game Planning | F69: 2 | G69: 36 | H69: 36 | I69: 0 | M69: 2
D70: 国际学术英语听说(4) | E70: International Academic English: Listening andSpeaking (4) | F70: 2 | G70: 36 | H70: 36 | I70: 0 | M70: 2
D71: 国际学术英语读写(4) | E71: International Academic English: Reading andWriting (4) | F71: 2 | G71: 36 | H71: 36 | I71: 0 | M71: 2
D72: 三维引擎开发 | E72: 3D Engine Development | F72: 1.5+1.5 | G72: 54 | H72: 27 | I72: 27 | N72: 3
D73: 新媒体运营与推广 | E73: New Media Operations and Promotion | F73: 1+1 | G73: 36 | H73: 18 | I73: 18 | L73: 2
D74: 编译原理 | E74: Compiling Principle | F74: 2 | G74: 36 | H74: 36 | I74: 0 | N74: 2
D75: Linux系统与应用 | E75: Linux System and application | F75: 1+1 | G75: 36 | H75: 18 | I75: 18 | O75: 2
D76: 就业指导（理论+实践） | E76: Employment Guidance（theory & practice） | F76: 1+1 | G76: 36 | H76: 18 | I76: 18 | O76: 2
B77: 专业选修课应修学分（学时）合计 | F77: 12 | G77: 217 | H77: 118 | I77: 99 | J77: =SUM(J59:J76) -> 0 | K77: =SUM(K59:K76) -> 0 | L77: =SUM(L59:L76) -> 2 | M77: =SUM(M59:M76) -> 10 | N77: =SUM(N58:N76) -> 13 | O77: =SUM(O58:O76) -> 12 | P77: =SUM(P58:P76) -> 0 | Q77: =SUM(Q58:Q76) -> 0
A78: 工程实践与毕业设计 | B78: 工程实践类 | D78: 高级语言程序设计实践 | E78: Practice of Advanced Language Programming | F78: 1 | G78: 20 | H78: 0 | I78: 20 | J78: 2
D79: 大学物理实验（1） | E79: College Physics Experiments（1） | F79: 1 | G79: 20 | H79: 0 | I79: 20 | L79: 2
D80: 程序设计实训 | E80: Practices of Programming | F80: 2 | G80: 40 | H80: 0 | I80: 40 | L80: 3
D81: 计算机组成原理课程设计 | E81: Course design of computer composition principle | F81: 1 | G81: 20 | H81: 0 | I81: 20 | L81: 3
D82: 数据结构与算法课程设计 | E82: Course design of data structure and algorithm | F82: 1 | G82: 20 | H82: 0 | I82: 20 | L82: 3
D83: 数字电路与逻辑设计实验 | E83: Digital Circuit and Logic Design Experiments | F83: 1 | G83: 20 | H83: 0 | I83: 20 | L83: 3
D84: 操作系统课程设计 | E84: Course design of operating system | F84: 1 | G84: 20 | H84: 0 | I84: 20 | M84: 3
D85: 数据库应用实践 | E85: Database application practice | F85: 2 | G85: 40 | H85: 0 | I85: 40 | M85: 3
D86: 计算机网络实训 | E86: Computer network training | F86: 1 | G86: 20 | H86: 0 | I86: 20 | M86: 3
D87: 软件工程课程设计 | E87: Course design of software engineering | F87: 1 | G87: 20 | H87: 0 | I87: 20 | N87: 3
D88: 嵌入式系统实践 | E88: Embedded System training | F88: 2 | G88: 40 | H88: 0 | I88: 40 | N88: 3
D89: 项目开发实训1 | E89: Project development training1 | F89: 2 | G89: 40 | H89: 0 | I89: 40 | N89: 2
D90: 项目开发实训2 | E90: Project development training1 | F90: 2 | G90: 40 | H90: 0 | I90: 40 | O90: 3
D91: 创业基础（实践） | E91: Enterprise Project Training | F91: 2 | G91: 40 | H91: 0 | I91: 40 | O91: 3
D92: 认识实习 | E92: Cognition Practice | F92: 1 | G92: 20 | H92: 0 | I92: 20 | M92: 1周
D93: 企业项目实训 | E93: Enterprise project training | F93: 1 | G93: 20 | H93: 0 | I93: 20 | O93: 1周
D94: 工作实习 | E94: Work Practice | F94: 3 | G94: 60 | H94: 0 | I94: 60 | N94: 3周
D95: 毕业设计 | E95: Graduation Project | F95: 12 | G95: 240 | H95: 0 | I95: 240 | N95: 6周 | O95: 6周
B96: 工程实践与毕业设计应修学分（学时）合计 | F96: =SUM(F78:F95) -> 37 | G96: =SUM(G78:G93)+15*20 -> 740 | H96: =O100 -> 0 | I96: =SUM(I78:I95) -> 740 | J96: =SUM(J78:J95) -> 2 | K96: =SUM(K78:K95) -> 0 | L96: =SUM(L78:L95) -> 14 | M96: =SUM(M78:M95)+1 -> 10 | N96: =SUM(N78:N95)+9 -> 17 | O96: =SUM(O78:O95)+7 -> 13 | P96: 0 | Q96: 0
A97: 备注： 1.校级公选课即通识选修课； 2.社会实践活动可通过参加全国高校大学竞赛（教育部认定大学生学科竞赛目录）来认定一定的学分； 2.就业指导（理论+实践）、国际学术英语听说（4）、国际学术英语读写（4）为限定选修； 3.认识实习一般安排在暑假进行。 4.选修课分三个方向课程： 方向一 人工智能：机器学习、计算机视觉及应用、大语言模型与应用、人工智能基础与应用； 方向二 网络安全：密码学基础与应用、网络攻击与防范、信息安全技术； 方向三 计算机应用：移动应用开发、系统分析与设计、Web编程技术、软件项目管理。

Sheet 附表二
A1: 附表二
A2: 各学期学分分配表
A3: 课程类别 | B3: 课程性质 | C3: 总学分 | D3: 总学时 | E3: 学分与学期分配
E4: 一 | F4: 二 | G4: 三 | H4: 四 | I4: 五 | J4: 六 | K4: 七 | L4: 八
A5: 公共教育 | B5: 数学与自然科学 | C5: =SUM(附表一!F6:F12) -> 23 | D5: =SUM(附表一!G6:G12) -> 414 | E5: 7 | F5: 8 | G5: 2 | H5: 3 | I5: 3 | J5: 0 | K5: 0 | L5: 0
B6: 大学英语课 | C6: =SUM(附表一!F13:F15) -> 12 | D6: =SUM(附表一!G13:G15) -> 216 | E6: 3 | F6: 3 | G6: 3 | H6: 3 | I6: 0 | J6: 0 | K6: 0 | L6: 0
B7: 大学体育课 | C7: =SUM(附表一!F16:F19) -> 4 | D7: =SUM(附表一!G16:G19) -> 144 | E7: 1 | F7: 1 | G7: 1 | H7: 1 | I7: 0 | J7: 0 | K7: 0 | L7: 0
B8: 思政必修课 | C8: =SUM(附表一!F20:F26) -> 18 | D8: =SUM(附表一!G20:G26) -> 324 | E8: 3 | F8: 6 | G8: 4 | H8: 3 | I8: 0 | J8: 2 | K8: 0 | L8: 0
B9: 通识必修课 | C9: 11 | D9: 274 | E9: 6 | F9: 1 | G9: 1 | H9: 1 | I9: 2 | J9: 0 | K9: 0 | L9: 0
B10: 劳动教育课 | C10: 2 | D10: 36 | E10: 0 | F10: 0 | G10: 2 | H10: 0 | I10: 0 | J10: 0 | K10: 0 | L10: 0
B11: 公共选修课 | C11: 6 | D11: 109 | E11: 2 | F11: 1 | G11: 0 | H11: 1 | I11: 0 | J11: 2 | K11: 0 | L11: 0
A12: 专业教育 | B12: 专业基础课 | C12: =[1]附表一!F47 -> 12 | D12: =[1]附表一!G47 -> 216 | E12: 3 | F12: =[1]附表一!K47 -> 0 | G12: 5 | H12: 4 | I12: =[1]附表一!N47 -> 0 | J12: =[1]附表一!O47 -> 0 | K12: =[1]附表一!P47 -> 0 | L12: =[1]附表一!Q47 -> 0
B13: 专业核心课 | C13: 19 | D13: =附表一!G56 -> 342 | E13: 0 | F13: 6 | G13: 2 | H13: 3 | I13: 6 | J13: 2 | K13: 0 | L13: 0
B14: 专业选修课 | C14: 12 | D14: =附表一!G77 -> 217 | E14: 0 | F14: 1 | G14: 2 | H14: 3 | I14: 2 | J14: 4 | K14: 0 | L14: 0
B15: 工程实践与毕业设计 | C15: =[1]附表一!F94 -> 37 | D15: 740 | E15: 1 | F15: 0 | G15: 6 | H15: 5 | I15: 14 | J15: 11 | K15: 0 | L15: 0
A16: 总计 | C16: =SUM(C5:C15) -> 156 | D16: =SUM(D5:D15) -> 3032 | E16: =SUM(E5:E15) -> 26 | F16: =SUM(F5:F15) -> 27 | G16: =SUM(G5:G15) -> 28 | H16: =SUM(H5:H15) -> 27 | I16: =SUM(I5:I15) -> 27 | J16: =SUM(J5:J15) -> 21 | ... L16: =SUM(L5:L15) -> 0
A17: 特别说明 | C17: 计算机科学与技术专业实习学期为第（6-7）学期，除实习学期和第八学期外，每学期修读的各类课程总学分上限为（28）学分。

Sheet 附表三
A1: 附表三
A2: 实践教学计划表
A3: 课程类别 | B3: 课程性质 | C3: 课程名称 | D3: 学分 | E3: 开设学时或周数（课程设计、实习实训等环节按周计算） | F3: 开设学期
A4: 实践教学 | B4: 公共 必修 | C4: 大学体育（一） | D4: 1 | E4: 32 | F4: 1
C5: 大学体育（二） | D5: 1 | E5: 32 | F5: 2
C6: 大学体育（三） | D6: 1 | E6: 32 | F6: 3
C7: 大学体育（四） | D7: 1 | E7: 32 | F7: 4
C8: 军事技能 | D8: 2 | E8: 2周 | F8: 1
B9: 工程实践与毕业设计 | C9: 高级语言程序设计实践 | D9: 1 | E9: 20 | F9: 1
C10: 大学物理实验 | D10: 1 | E10: 20 | F10: 3
C11: 程序设计实训 | D11: 2 | E11: 40 | F11: 3
C12: 计算机组成原理课程设计 | D12: 1 | E12: 20 | F12: 3
C13: 数据结构与算法课程设计 | D13: 1 | E13: 20 | F13: 3
C14: 数字电路与逻辑设计实验 | D14: 1 | E14: 20 | F14: 3
C15: 操作系统课程设计 | D15: 1 | E15: 20 | F15: 4
C16: 数据库应用实践 | D16: 2 | E16: 40 | F16: 4
C17: 计算机网络实训 | D17: 1 | E17: 20 | F17: 4
C18: 软件工程课程设计 | D18: 1 | E18: 20 | F18: 5
C19: 嵌入式系统实践 | D19: 2 | E19: 40 | F19: 5
C20: 项目开发实训1 | D20: 2 | E20: 40 | F20: 5
C21: 项目开发实训2 | D21: 2 | E21: 40 | F21: 6
... C24: 企业项目实训 | D24: 1 | E24: 20 | F24: 7
C25: 工作实习 | D25: 3 | E25: 3周 | F25: 7
C26: 毕业设计 | D26: 12 | E26: 12周 | F26: 8
B27: 专业必修 | C27: 面向对象程序设计 | D27: 1.5 | E27: 27 | F27: 2
C28: 数据库原理 | D28: 1.5 | E28: 27 | F28: 4
C29: 软件测试与质量保证 | D29: 1 | E29: 18 | F29: 6
B30: 专业选修（限定选修） | C30: 人工智能基础与应用 | D30: 1 | E30: 20 | F30: 1
C31: 就业指导（理论+实践） | D31: 1 | E31: 18 | F31: 6
B32: 专业选修 | C32: Web编程技术 | D32: 1 | E32: 18 | F32: 4
C33: 移动应用开发 | D33: 1 | E33: 18 | F33: 5
C34: 软件项目管理 | D34: 1 | E34: 18 | F34: 6
C35: 系统分析与设计 | D35: 1 | E35: 18 | F35: 6
A36: 合计 | D36: =SUM(D4:D35) -> 53 | E36: =SUM(E9:E24,E4:E7,E27:E35)+15*20+112 -> 1162
A37: 实践教学学分占比 | D37: =D36/156 -> 0.33974359
A38: 备注：列出实验、实践、实训等实践教学课程的安排，包括独立设置的实验、实践、实训课程以及其他实验、实践、实训学时≥50%的课程。集中性实践教学环节原则上按1周折算为1学分。
