Workbook

Sheet 附表1
A1: 附表一
A2: 课程计划进程表
A3: 课程性质 | D3: 课程 中文名称 | E3: 课程 英文名称 | F3: 课程学分、学时分配 | J3: 各学年、学期每周课内学时
F4: 学分 | G4: 总 学时 | H4: 讲授学时 | I4: 实践学时 | J4: 1学年 | L4: 2学年 | N4: 3学年 | P4: 4学年
J5: 1 | K5: 2 | L5: 3 | M5: 4 | N5: 5 | O5: 6 | P5: 7 | Q5: 8
A6: 公共教育 | B6: 公共 必修 | C6: 数学与自然科学 | D6: 高等数学（1） | E6: Advanced Mathematics（1） | F6: 4 | G6: =F6*18 -> 72 | H6: 72 | I6: 0 | J6: 4
D7: 线性代数 | E7: Linear Algebra and Experiment | F7: 3 | G7: =F7*18 -> 54 | H7: 54 | I7: 0 | J7: 3
D8: 高等数学（2） | E8: Advanced Mathematics（2） | F8: 5 | G8: =F8*18 -> 90 | H8: 90 | I8: 0 | K8: 5
D9: 人工智能基础与应用 | E9: Basics and Applications of Artificial Intelligence | F9: 1 | G9: =F9*18 -> 18 | H9: 18 | I9: 0 | K9: 2
D10: 大学物理（1） | E10: College Physics（1） | F10: 3 | G10: =F10*18 -> 54 | H10: 54 | I10: 0 | L10: 3
D11: 大学物理（2） | E11: College Physics（2） | F11: 2 | G11: =F11*18 -> 36 | H11: 36 | I11: 0 | M11: 3
D12: 大学物理实验（1） | E12: College Physics Experiments（1） | F12: 1 | G12: 20 | H12: 0 | I12: 20 | M12: 3
D13: 概率论与数理统计 | E13: Probability Theory and Mathematical Statistics | F13: 3 | G13: =F13*18 -> 54 | H13: 54 | I13: 0 | M13: 3
C14: 大学英语课 | D14: 大学英语（一） | E14: College English（一） | F14: 3 | G14: =F14*18 -> 54 | H14: 54 | I14: 0 | J14: 3
D15: 大学英语（二） | E15: College English（二） | F15: 3 | G15: =F15*18 -> 54 | H15: 54 | I15: 0 | K15: 3
D16: 大学英语（三） | E16: College English（三） | F16: 3 | G16: =F16*18 -> 54 | H16: 54 | I16: 0 | L16: 3
D17: 大学英语（四） | E17: College English（四） | F17: 3 | G17: =F17*18 -> 54 | H17: 54 | I17: 0 | M17: 3
C18: 大学体育课 | D18: 大学体育（一） | E18: Physical Education（一） | F18: 1 | G18: 36 | H18: 4 | I18: 32 | J18: 2
D19: 大学体育（二） | E19: Physical Education（二） | F19: 1 | G19: 36 | H19: 4 | I19: 32 | K19: 2
D20: 大学体育（三） | E20: Physical Education（三） | F20: 1 | G20: 36 | H20: 4 | I20: 32 | L20: 2
D21: 大学体育（四） | E21: Physical Education（四） | F21: 1 | G21: 36 | H21: 4 | I21: 32 | M21: 2
C22: 思政必修课 | D22: 习近平新时代中国特色社会主义思想概论 | E22: Introduction to Xi Jinping's Socialist Thought with Chinese Characteristics for a New Era | F22: 3 | G22: 54 | H22: 54 | I22: 0 | J22: 3
D23: 中国近现代史纲要 | E23: Outline of Modern History of China | F23: 3 | G23: 54 | H23: 54 | I23: 0 | K23: 3
D24: 思想道德与法治 | E24: Ideological Morality and Rule of Law | F24: 3 | G24: 54 | H24: 54 | I24: 0 | K24: 3
D25: 国家安全教育 | E25: National Security Education | F25: 1 | G25: 18 | H25: 18 | I25: 0 | L25: 1
D26: 毛泽东思想和中国特色社会主义理论体系概论 | E26: Mao Zedong Thought and Theoretical System of Socialism with Chinese Characteristics | F26: 3 | G26: 54 | H26: 36 | I26: 18 | L26: 3
D27: 马克思主义基本原理 | E27: Introduction to the Basic Principle of Marxism | F27: 3 | G27: 54 | H27: 54 | I27: 0 | M27: 3
D28: 形势与政策 | E28: Situation and Policy | F28: 2 | G28: 36 | H28: 36 | I28: 0 | O28: 2
C29: 通识必修课 | D29: 人文价值 （选修2门） | E29: Humanistic Value | F29: 1 | G29: 18 | H29: 18 | I29: 0 | J29: 4学分【修读要求：学生需从人文价值模块选修2学分，从全球视野、科技应用和交叉创新三个模块选修2学分（3个模块选修其中2个模块），合计修满4学分】
D30: 全球视野 | E30: Global Perspective | F30: 1 | G30: 18 | H30: 18 | I30: 0
D31: 科技应用 | E31: Technology Application | F31: 1 | G31: 18 | H31: 18 | I31: 0
D32: 交叉创新 | E32: Cross-innovation | F32: 1 | G32: 18 | H32: 18 | I32: 0
D33: 军事理论 | E33: Military Theory and Military Skills | F33: 2 | G33: 36 | H33: 36 | I33: 0 | J33: 2
D34: 军事技能 | E34: Military Skills | F34: 2 | G34: 2周（112学时） | H34: 0 | I34: 2周（112学时） | J34: 2
D35: 大学生心理健康教育 | E35: Mental Health Education Of College Students | F35: 2 | G35: 36 | H35: 36 | I35: 0 | J35: 2
D36: 创业基础（理论） | E36: Foundation of Establishing a business（Theory） | F36: 1 | G36: 18 | H36: 18 | I36: 0 | N36: 2
C37: 劳动教育课 | D37: 劳动教育 | E37: Labor Education | F37: 2 | G37: 36 | H37: 20 | I37: 16 | L37: 2
B38: 公共必修应修学分（学时）合计 | F38: =SUM(F6:F37) -> 69 | G38: =I38+H38 -> 1392 | H38: =SUM(H6:H37) -> 1098 | I38: =SUM(I6:I37)+112 -> 294 | J38: =SUM(J33:J37,J6:J28) -> 21 | K38: =SUM(K33:K37,K6:K28) -> 18 | L38: =SUM(L33:L37,L6:L28) -> 14 | M38: =SUM(M33:M37,M6:M28) -> 17 | N38: =SUM(N6:N37) -> 2 | O38: =SUM(O6:O37) -> 2 | P38: =SUM(P6:P37) -> 0 | Q38: =SUM(Q6:Q37) -> 0
B39: 公共 选修课 | C39: 美育限定性 选修课 | D39: 美育限定性选修课须修读满2学分
C40: 校级公选课、学术报告型公选课、社会实践活动认定 | D40: 校级公选课、学术报告型公选课、社会实践活动认定须修读满2学分
C41: 指选课 | D41: 大学生成长成才导论 | E41: Introduction to Growthand Success for College Students | F41: 2 | G41: 36 | H41: 36 | I41: 0 | J41: 2
B42: 公共选修应修学分（学时）合计 | F42: 6 | G42: 109 | H42: 76 | I42: 33 | J42: 2 | K42: 0 | L42: 0 | M42: 0 | N42: 0 | O42: 0 | P42: 0 | Q42: 0
A43: 专业教育 | B43: 专业 必修 | C43: 专业基础课 | D43: 高级语言程序设计 | E43: Advanced Language Programming | F43: 2 | G43: =F43*18 -> 36 | H43: 18 | I43: 18 | J43: 2
D44: 无人机系统概论 | E44: Introduction to UAV Systems | F44: 2 | G44: =F44*18 -> 36 | H44: 36 | I44: 0 | J44: 2
D45: Python程序设计 | E45: Python Programming | F45: 2 | G45: =F45*18 -> 36 | H45: 18 | I45: 18 | K45: 2
D46: 电路与模拟电子技术 | E46: Circuit and Analog Electronics Technology | F46: 3 | G46: =F46*18 -> 54 | H46: 54 | I46: 0 | K46: 3
D47: 信号与系统 | E47: Signals and Systems | F47: 2 | G47: =F47*18 -> 36 | H47: 18 | I47: 18 | L47: 2
D48: 数字电路与逻辑设计 | E48: Digital Circuits and Logic Design | F48: 2 | G48: 36 | H48: 36 | I48: 0 | L48: 2
D49: 自动控制原理 | E49: Principles of Automatic Control | F49: 3 | G49: 54 | H49: 54 | I49: 0 | L49: 3
C50: 专业基础课应修学分（学时）合计 | F50: =SUM(F43:F49) -> 16 | G50: =SUM(G43:G49) -> 288 | H50: =SUM(H43:H49) -> 234 | I50: =SUM(I43:I49) -> 54 | J50: =SUM(J43:J49) -> 4 | K50: =SUM(K43:K49) -> 5 | L50: =SUM(L43:L49) -> 7 | M50: =SUM(M43:M49) -> 0 | ... P50: =SUM(P43:P49) -> 0 | Q50: 0
C51: 专业核心课 | D51: 空气动力学与飞行原理 | E51: Aerodynamics and Flight Principles | F51: 3 | G51: =F51*18 -> 54 | H51: 54 | I51: 0 | L51: 3
D52: 航空模型及小型无人机技术 | E52: Aviation Models and Small UAV Technology | F52: 3 | G52: =F52*18 -> 54 | H52: 54 | I52: 0 | M52: 3
D53: 飞控系统原理 | E53: Flight Control Principles | F53: 2 | G53: =F53*18 -> 36 | H53: 18 | I53: 18 | M53: 2
D54: 无人机动力系统 | E54: UAV Power System | F54: 1 | G54: 18 | H54: 18 | I54: 0 | M54: 2
D55: 航空气象 | E55: Aviation Meteorology | F55: 1 | G55: 18 | H55: 18 | I55: 0 | M55: 2
D56: 无人机适航与法规 | E56: UAV Airworthiness and Regulations | F56: 2 | G56: =F56*18 -> 36 | H56: 36 | I56: 0 | N56: 2
D57: 通信与导航 | E57: Communication and Navigation | F57: 3 | G57: =F57*18 -> 54 | H57: 34 | I57: 20 | N57: 3
D58: 无人机飞行控制技术 | E58: UAV Flight Control Technology | F58: 2 | G58: 36 | H58: 36 | I58: 0 | N58: 2
D59: 无人机集群飞行 | E59: UAV Swarm Flight | F59: 2 | G59: =F59*18 -> 36 | H59: 18 | I59: 18 | O59: 2
D60: 无人机反制技术 | E60: UAV Countermeasure Technology | F60: 2 | G60: 36 | H60: 36 | I60: 0 | O60: 2
C61: 专业核心课应修学分（学时）合计 | F61: =SUM(F51:F60) -> 21 | G61: =SUM(G51:G60) -> 378 | H61: =SUM(H51:H60) -> 322 | I61: =SUM(I51:I60) -> 56 | J61: =SUM(J51:J60) -> 0 | K61: =SUM(K51:K60) -> 0 | L61: =SUM(L51:L60) -> 3 | M61: =SUM(M51:M60) -> 9 | ... Q61: =SUM(Q51:Q60) -> 0
B62: 专业必修应修学分（学时）合计 | F62: =F61+F50 -> 37 | G62: =G61+G50 -> 666 | H62: =H61+H50 -> 556 | I62: =I61+I50 -> 110 | J62: =J61+J50 -> 4 | K62: =K61+K50 -> 5 | L62: =L61+L50 -> 10 | M62: =M61+M50 -> 9 | ... Q62: =Q61+Q50 -> 0
B63: 专业选修 | C63: 专业选修课 | D63: 工程制图与CAD | E63: Engineering Drawing and CAD | F63: 2 | G63: =F63*18 -> 36 | H63: 18 | I63: 18 | K63: 2
D64: 飞行器复合材料制造工艺 | E64: Composite Manufacturing Process | F64: 1 | G64: =F64*18 -> 18 | H64: 18 | I64: 0 | L64: 2
D65: 路径规划 | E65: Path Planning | F65: 2 | G65: =F65*18 -> 36 | H65: 18 | I65: 18 | N65: 2
D66: 数据处理与分析 | E66: Data Processing and Analysis | F66: 2 | G66: 36 | H66: 18 | I66: 18 | N66: 2
D67: 任务载荷基础 | E67: Fundamentals of Mission Payloads | F67: 2 | G67: =F67*18 -> 36 | H67: 36 | I67: 0 | N67: 2
D68: 嵌入式系统与工程实践 | E68: Embedded Systems and Engineering Practice | F68: 2 | G68: =F68*18 -> 36 | H68: 18 | I68: 18 | O68: 2
D69: 开源飞控二次开发 | E69: Open-Source Flight Controller Development | F69: 2 | G69: =F69*18 -> 36 | H69: 36 | I69: 0 | O69: 2
D70: 就业指导（理论+实践） | E70: Employment Guidance (Theory and Practice) | F70: 2 | G70: =F70*18 -> 36 | H70: 18 | I70: 18 | O70: 2
D71: 无人机空中交通管理 | E71: UAV Air Traffic Management | F71: 2 | G71: =F71*18 -> 36 | H71: 36 | I71: 0 | P71: 2
B72: 专业选修课应修学分（学时）合计 | F72: 11 | G72: =11*18 -> 198 | H72: 140 | I72: =G72-H72 -> 58 | J72: =SUM(J63:J71) -> 0 | K72: =SUM(K63:K71) -> 2 | L72: =SUM(L63:L71) -> 2 | M72: =SUM(M63:M71) -> 0 | N72: =SUM(N63:N71) -> 6 | O72: =SUM(O63:O71) -> 6 | P72: =SUM(P63:P71) -> 2 | Q72: =SUM(Q64:Q71) -> 0
A73: 工程实践与毕业设计 | B73: 工程实践类 | D73: 无人机模拟飞行 | E73: UAV Simulation Flight | F73: 2 | G73: 40 | H73: 0 | I73: 40 | K73: 2
D74: 电路与模拟电子技术实践 | E74: Practice of Circuit and Analog Electronic Technology | F74: 2 | G74: 40 | H74: 0 | I74: 40 | L74: 2
D75: 无人机组装调试与维护 | E75: UAV Assembly, Debugging, and Maintenance | F75: 1 | G75: 20 | H75: 0 | I75: 20 | M75: 2
D76: 无人机地面站与任务规划 | E76: UAV Ground Station and Mission Planning | F76: 1 | G76: 20 | H76: 0 | I76: 20 | M76: 2
D77: 无人机实景三维建模 | E77: UAV Realistic 3D Modeling | F77: 2 | G77: 40 | H77: 0 | I77: 40 | N77: 2
D78: 电气与控制系统设计实训 | E78: Electrical and Control System Design Training | F78: 2 | G78: 40 | H78: 0 | I78: 40 | N78: 2
D79: 无人机系统创新设计 | E79: UAV Systems Innovative Design | F79: 1 | G79: 20 | H79: 0 | I79: 20 | N79: 2
D80: 行业载荷巡检实训 | E80: Industry Payload Inspection Training | F80: 2 | G80: 40 | H80: 0 | I80: 40 | O80: 2
D81: 机器视觉算法综合实训 | E81: Comprehensive Training of Machine Vision Algorithms | F81: 2 | G81: 40 | H81: 0 | I81: 40 | O81: 2
D82: 无人机外场飞行 | E82: UAV Outfield Flight | F82: 2 | G82: 40 | H82: 0 | I82: 40 | O82: 2
D83: 认识实习 | E83: Cognition Practice | F83: 1 | G83: 20 | H83: 0 | I83: 20 | M83: 1周
D84: 工作实习 | E84: Work Practice | F84: 3 | G84: 3周 | H84: 0 | I84: 3周 | P84: 3周
D85: 毕业设计 | E85: Graduation Project | F85: 12 | G85: 12周 | H85: 0 | I85: 12周 | P85: 6周 | Q85: 6周
B86: 工程实践与毕业设计应修学分（学时）合计 | F86: =SUM(F73:F85) -> 33 | G86: =F86*20 -> 660 | H86: =SUM(H73:H85) -> 0 | I86: =G86 -> 660 | J86: =SUM(J73:J85) -> 0 | K86: =SUM(K73:K85) -> 2 | L86: =SUM(L73:L85) -> 2 | M86: =SUM(M73:M85) -> 4 | N86: =SUM(N73:N85) -> 6 | O86: =SUM(O73:O85) -> 6 | P86: 9 | Q86: 6
A87: 备注： 1.校级公选课即通识选修课； 2.社会实践活动可通过参加全国高校大学竞赛（教育部认定大学生学科竞赛目录）来认定一定的学分； 3. 工程制图与CAD、路径规划、数据处理与分析、任务载荷基础、就业指导（理论+实践）为限定选修；

Sheet 附表2
A1: 附表二
A2: 各学期学分分配表
A3: 课程类别 | B3: 课程性质 | C3: 总学分 | D3: 总学时 | E3: 学分与学期分配
E4: 一 | F4: 二 | G4: 三 | H4: 四 | I4: 五 | J4: 六 | K4: 七 | L4: 八
A5: 公共教育 | B5: 数学与自然科学 | C5: 22 | D5: =SUM(附表1!G6:G13) -> 398 | E5: 7 | F5: 6 | G5: 3 | H5: 6 | I5: 0 | J5: 0 | K5: 0 | L5: 0
B6: 大学英语课 | C6: =SUM([1]附表一!F13:F16) -> 12 | D6: =SUM([1]附表一!G13:G16) -> 216 | E6: 3 | F6: 3 | G6: 3 | H6: 3 | I6: 0 | J6: 0 | K6: 0 | L6: 0
B7: 大学体育课 | C7: =SUM([1]附表一!F17:F20) -> 4 | D7: =SUM([1]附表一!G17:G20) -> 144 | E7: 1 | F7: 1 | G7: 1 | H7: 1 | I7: 0 | J7: 0 | K7: 0 | L7: 0
B8: 思政必修课 | C8: =SUM([1]附表一!F21:F27) -> 18 | D8: =SUM(附表1!G22:G28) -> 324 | E8: 3 | F8: 6 | G8: 4 | H8: 3 | I8: 0 | J8: 2 | K8: 0 | L8: 0
B9: 通识必修课 | C9: 11 | D9: 274 | E9: 7 | F9: 1 | G9: 1 | H9: 1 | I9: 1 | J9: 0 | K9: 0 | L9: 0
B10: 劳动教育课 | C10: 2 | D10: 36 | E10: 0 | F10: 0 | G10: 2 | H10: 0 | I10: 0 | J10: 0 | K10: 0 | L10: 0
B11: 公共选修课 | C11: 6 | D11: =附表1!G42 -> 109 | E11: 2 | F11: 0 | G11: 0 | H11: 1 | I11: 1 | J11: 2 | K11: 0 | L11: 0
A12: 专业教育 | B12: 专业基础课 | C12: 16 | D12: =附表1!G50 -> 288 | E12: 4 | F12: 5 | G12: 7 | H12: 0 | I12: 0 | J12: 0 | K12: 0 | L12: 0
B13: 专业核心课 | C13: 21 | D13: =附表1!G61 -> 378 | E13: 0 | F13: 0 | G13: 3 | H13: 7 | I13: 7 | J13: 4 | K13: 0 | L13: 0
B14: 专业选修课 | C14: 11 | D14: =附表1!G72 -> 198 | E14: 0 | F14: 2 | G14: 1 | H14: 0 | I14: 2 | J14: 4 | K14: 2 | L14: 0
B15: 工程实践与毕业设计 | C15: 33 | D15: =附表1!G86 -> 660 | E15: 0 | F15: 2 | G15: 2 | H15: 3 | I15: 5 | J15: 6 | K15: 9 | L15: 6
A16: 总计 | C16: =SUM(C5:C15) -> 156 | D16: =SUM(D5:D15) -> 3025 | E16: =SUM(E5:E15) -> 27 | F16: =SUM(F5:F15) -> 26 | G16: =SUM(G5:G15) -> 27 | H16: =SUM(H5:H15) -> 25 | I16: =SUM(I5:I15) -> 16 | J16: =SUM(J5:J15) -> 18 | ... L16: =SUM(L5:L15) -> 6
A17: 特别说明 | C17: 无人驾驶航空器系统工程专业实习学期为第（7-8）学期，除实习学期和第八学期外，每学期修读的各类课程总学分上限为（27）学分。

Sheet 附表3
A1: 附表三
A2: 实践教学计划表
A3: 课程类别 | B3: 课程性质 | C3: 课程名称 | D3: 学分 | E3: 开设学时或周数（课程设计、实习实训等环节按周计算） | F3: 开设学期
A4: 实践教学 | B4: 公共 必修 | C4: 大学体育（一） | D4: 1 | E4: 32 | F4: 1
C5: 大学体育（二） | D5: 1 | E5: 32 | F5: 2
C6: 大学体育（三） | D6: 1 | E6: 32 | F6: 3
C7: 大学体育（四） | D7: 1 | E7: 32 | F7: 4
C8: 军事技能 | D8: 2 | E8: 2周 | F8: 1
B9: 工程实践与毕业设计 | C9: 大学物理实验 | D9: 1 | E9: 20 | F9: 1
C10: 无人机模拟飞行(1) | D10: 2 | E10: 40 | F10: 2
C11: 电路与模拟电子技术实践 | D11: 2 | E11: 40 | F11: 3
C12: 无人机组装调试与维护 | D12: 1 | E12: 20 | F12: 4
C13: 无人机地面站与任务规划 | D13: 1 | E13: 20 | F13: 4
C14: 无人机实景三维建模 | D14: 2 | E14: 40 | F14: 5
C15: 电气与控制系统设计实训 | D15: 2 | E15: 40 | F15: 5
C16: 行业载荷巡检实训 | D16: 2 | E16: 40 | F16: 5
C17: 认识实习 | D17: 1 | E17: 20 | F17: 6
C18: 无人机系统创新设计 | D18: 1 | E18: 20 | F18: 6
C19: 机器视觉算法综合实训 | D19: 2 | E19: 40 | F19: 6
C20: 无人机外场飞行 | D20: 2 | E20: 40 | F20: 6
C21: 工作实习 | D21: 3 | E21: 3周 | F21: 6
C22: 毕业设计(论文) | D22: 12 | E22: 12周 | F22: 7
B23: 专业必修 | C23: 高级语言程序设计 | D23: 2 | E23: 36 | F23: 1
C24: Python语言设计 | D24: 2 | E24: 36 | F24: 2
C25: 信号与系统 | D25: 1 | E25: 18 | F25: 3
C26: 自动控制原理 | D26: 1 | E26: 18 | F26: 3
C27: 飞控系统原理 | D27: 1 | E27: 18 | F27: 4
C28: 通信与导航 | D28: 1 | E28: 20 | F28: 5
C29: 无人机飞行控制技术 | D29: 1 | E29: 18 | F29: 5
C30: 无人机集群飞行 | D30: 1 | E30: 18 | F30: 6
C31: 嵌入式系统与工程实际 | D31: 1 | E31: 18 | F31: 6
C32: 路径规划 | D32: 1 | E32: 18 | F32: 5
C33: 无人机动力系统 | D33: 1 | E33: 18 | F33: 4
A34: 合计 | D34: =SUM(D4:D33) -> 53 | E34: =SUM(E4:E33)+112+15*20 -> 1156
A35: 实践教学学分占比 | D35: =D34/156 -> 0.33974359
A36: 备注：列出实验、实践、实训等实践教学课程的安排，包括独立设置的实验、实践、实训课程以及其他实验、实践、实训学时≥50%的课程。集中性实践教学环节原则上按1周折算为1学分。
