Workbook

Sheet 附表1
A1: 附表一
A2: 课程计划进程表
A3: 课程性质 | D3: 课程 中文名称 | E3: 课程 英文名称 | F3: 课程学分、学时分配 | J3: 各学年、学期每周课内学时
F4: 学分 | G4: 总 学时 | H4: 讲授学时 | I4: 实践学时 | J4: 1学年 | L4: 2学年 | N4: 3学年 | P4: 4学年
J5: 1 | K5: 2 | L5: 3 | M5: 4 | N5: 5 | O5: 6 | P5: 7 | Q5: 8
A6: 公共教育 | B6: 公共 必修 | C6: 数学与自然科学 | D6: 高等数学（1） | E6: Advanced Mathematics（1） | F6: 4 | G6: =F6*18 -> 72 | H6: 72 | I6: 0 | J6: 4
D7: 线性代数 | E7: Linear Algebra and Experiment | F7: 3 | G7: =F7*18 -> 54 | H7: 54 | I7: 0 | J7: 3
D8: 高等数学（2） | E8: Advanced Mathematics（2） | F8: 5 | G8: =F8*18 -> 90 | H8: 90 | I8: 0 | K8: 5
D9: 人工智能基础与应用 | E9: Basics and Applications of Artificial Intelligence | F9: 1 | G9: =F9*18 -> 18 | H9: 18 | I9: 0 | K9: 2
D10: 大学物理（1） | E10: College Physics（1） | F10: 3 | G10: =F10*18 -> 54 | H10: 54 | I10: 0 | L10: 3
D11: 大学物理（2） | E11: College Physics（2） | F11: 2 | G11: =F11*18 -> 36 | H11: 36 | I11: 0 | M11: 3
D12: 大学物理实验（1） | E12: College Physics Experiments（1） | F12: 1 | G12: 20 | H12: 0 | I12: 20 | M12: 3
D13: 概率论与数理统计 | E13: Probability Theory and Mathematical Statistics | F13: 3 | G13: =F13*18 -> 54 | H13: 54 | I13: 0 | M13: 3
C14: 大学英语课 | D14: 大学英语（一） | E14: College English（一） | F14: 3 | G14: =F14*18 -> 54 | H14: 54 | I14: 0 | J14: 3
D15: 大学英语（二） | E15: College English（二） | F15: 3 | G15: =F15*18 -> 54 | H15: 54 | I15: 0 | K15: 3
D16: 大学英语（三） | E16: College English（三） | F16: 3 | G16: =F16*18 -> 54 | H16: 54 | I16: 0 | L16: 3
D17: 大学英语（四） | E17: College English（四） | F17: 3 | G17: =F17*18 -> 54 | H17: 54 | I17: 0 | M17: 3
C18: 大学体育课 | D18: 大学体育（一） | E18: Physical Education（一） | F18: 1 | G18: 36 | H18: 4 | I18: 32 | J18: 2
D19: 大学体育（二） | E19: Physical Education（二） | F19: 1 | G19: 36 | H19: 4 | I19: 32 | K19: 2
D20: 大学体育（三） | E20: Physical Education（三） | F20: 1 | G20: 36 | H20: 4 | I20: 32 | L20: 2
D21: 大学体育（四） | E21: Physical Education（四） | F21: 1 | G21: 36 | H21: 4 | I21: 32 | M21: 2
C22: 思政必修课 | D22: 习近平新时代中国特色社会主义思想概论 | E22: Introduction to Xi Jinping's Socialist Thought with Chinese Characteristics for a New Era | F22: 3 | G22: 54 | H22: 54 | I22: 0 | J22: 3
D23: 中国近现代史纲要 | E23: Outline of Modern History of China | F23: 3 | G23: 54 | H23: 54 | I23: 0 | K23: 3
D24: 思想道德与法治 | E24: Ideological Morality and Rule of Law | F24: 3 | G24: 54 | H24: 54 | I24: 0 | K24: 3
D25: 国家安全教育 | E25: National Security Education | F25: 1 | G25: 18 | H25: 18 | I25: 0 | L25: 1
D26: 毛泽东思想和中国特色社会主义理论体系概论 | E26: Mao Zedong Thought and Theoretical System of Socialism with Chinese Characteristics | F26: 3 | G26: 54 | H26: 36 | I26: 18 | L26: 3
D27: 马克思主义基本原理 | E27: Introduction to the Basic Principle of Marxism | F27: 3 | G27: 54 | H27: 54 | I27: 0 | M27: 3
D28: 形势与政策 | E28: Situation and Policy | F28: 2 | G28: 36 | H28: 36 | I28: 0 | O28: 2
C29: 通识必修课 | D29: 人文价值 （选修2门） | E29: Humanistic Value | F29: 1 | G29: 18 | H29: 18 | I29: 0 | J29: 4学分【修读要求：学生需从人文价值模块选修2学分，从全球视野、科技应用和交叉创新三个模块选修2学分（3个模块选修其中2个模块），合计修满4学分】
D30: 全球视野 | E30: Global Perspective | F30: 1 | G30: 18 | H30: 18 | I30: 0
D31: 科技应用 | E31: Technology Application | F31: 1 | G31: 18 | H31: 18 | I31: 0
D32: 交叉创新 | E32: Cross-innovation | F32: 1 | G32: 18 | H32: 18 | I32: 0
D33: 军事理论 | E33: Military Theory and Military Skills | F33: 2 | G33: 36 | H33: 36 | I33: 0 | J33: 2
D34: 军事技能 | E34: Military Skills | F34: 2 | G34: 2周（112学时） | H34: 0 | I34: 2周（112学时） | J34: 2
D35: 大学生心理健康教育 | E35: Mental Health Education Of College Students | F35: 2 | G35: 36 | H35: 36 | I35: 0 | J35: 2
D36: 创业基础（理论） | E36: Foundation of Establishing a business（Theory） | F36: 1 | G36: 18 | H36: 18 | I36: 0 | N36: 2
C37: 劳动教育课 | D37: 劳动教育 | E37: Labor Education | F37: 2 | G37: 36 | H37: 20 | I37: 16 | L37: 2
B38: 公共必修应修学分（学时）合计 | F38: =SUM(F6:F37) -> 69 | G38: =I38+H38 -> 1392 | H38: =SUM(H6:H37) -> 1098 | I38: =SUM(I6:I37)+112 -> 294 | J38: =SUM(J33:J37,J6:J28) -> 21 | K38: =SUM(K33:K37,K6:K28) -> 18 | L38: =SUM(L33:L37,L6:L28) -> 14 | M38: =SUM(M33:M37,M6:M28) -> 17 | N38: =SUM(N6:N37) -> 2 | O38: =SUM(O6:O37) -> 2 | P38: =SUM(P6:P37) -> 0 | Q38: =SUM(Q6:Q37) -> 0
B39: 公共 选修课 | C39: 美育限定性 选修课 | D39: 美育限定性选修课须修读满2学分
C40: 校级公选课、学术报告型公选课、社会实践活动认定 | D40: 校级公选课、学术报告型公选课、社会实践活动认定须修读满2学分
...

Sheet 附表2
A1: 附表二
A2: 各学期学分分配表
A3: 课程类别 | B3: 课程性质 | C3: 总学分 | D3: 总学时 | E3: 学分与学期分配
E4: 一 | F4: 二 | G4: 三 | H4: 四 | I4: 五 | J4: 六 | K4: 七 | L4: 八
A5: 公共教育 | B5: 数学与自然科学 | C5: 22 | D5: =SUM(附表1!G6:G13) -> 398 | E5: 7 | F5: 6 | G5: 3 | H5: 6 | I5: 0 | J5: 0 | K5: 0 | L5: 0
B6: 大学英语课 | C6: =SUM([1]附表一!F13:F16) -> 12 | D6: =SUM([1]附表一!G13:G16) -> 216 | E6: 3 | F6: 3 | G6: 3 | H6: 3 | I6: 0 | J6: 0 | K6: 0 | L6: 0
B7: 大学体育课 | C7: =SUM([1]附表一!F17:F20) -> 4 | D7: =SUM([1]附表一!G17:G20) -> 144 | E7: 1 | F7: 1 | G7: 1 | H7: 1 | I7: 0 | J7: 0 | K7: 0 | L7: 0
B8: 思政必修课 | C8: =SUM([1]附表一!F21:F27) -> 18 | D8: =SUM(附表1!G22:G28) -> 324 | E8: 3 | F8: 6 | G8: 4 | H8: 3 | I8: 0 | J8: 2 | K8: 0 | L8: 0
B9: 通识必修课 | C9: 11 | D9: 274 | E9: 7 | F9: 1 | G9: 1 | H9: 1 | I9: 1 | J9: 0 | K9: 0 | L9: 0
B10: 劳动教育课 | C10: 2 | D10: 36 | E10: 0 | F10: 0 | G10: 2 | H10: 0 | I10: 0 | J10: 0 | K10: 0 | L10: 0
B11: 公共选修课 | C11: 6 | D11: =附表1!G42 -> 109 | E11: 2 | F11: 0 | G11: 0 | H11: 1 | I11: 1 | J11: 2 | K11: 0 | L11: 0
A12: 专业教育 | B12: 专业基础课 | C12: 16 | D12: =附表1!G50 -> 288 | E12: 4 | F12: 5 | G12: 7 | H12: 0 | I12: 0 | J12: 0 | K12: 0 | L12: 0
B13: 专业核心课 | C13: 21 | D13: =附表1!G61 -> 378 | E13: 0 | F13: 0 | G13: 3 | H13: 7 | I13: 7 | J13: 4 | K13: 0 | L13: 0
B14: 专业选修课 | C14: 11 | D14: =附表1!G72 -> 198 | E14: 0 | F14: 2 | G14: 1 | H14: 0 | I14: 2 | J14: 4 | K14: 2 | L14: 0
B15: 工程实践与毕业设计 | C15: 33 | D15: =附表1!G86 -> 660 | E15: 0 | F15: 2 | G15: 2 | H15: 3 | I15: 5 | J15: 6 | K15: 9 | L15: 6
A16: 总计 | C16: =SUM(C5:C15) -> 156 | D16: =SUM(D5:D15) -> 3025 | E16: =SUM(E5:E15) -> 27 | F16: =SUM(F5:F15) -> 26 | G16: =SUM(G5:G15) -> 27 | H16: =SUM(H5:H15) -> 25 | I16: =SUM(I5:I15) -> 16 | J16: =SUM(J5:J15) -> 18 | ... L16: =SUM(L5:L15) -> 6
A17: 特别说明 | C17: 无人驾驶航空器系统工程专业实习学期为第（7-8）学期，除实习学期和第八学期外，每学期修读的各类课程总学分上限为（27）学分。

Sheet 附表3
A1: 附表三
A2: 实践教学计划表
A3: 课程类别 | B3: 课程性质 | C3: 课程名称 | D3: 学分 | E3: 开设学时或周数（课程设计、实习实训等环节按周计算） | F3: 开设学期
A4: 实践教学 | B4: 公共 必修 | C4: 大学体育（一） | D4: 1 | E4: 32 | F4: 1
C5: 大学体育（二） | D5: 1 | E5: 32 | F5: 2
C6: 大学体育（三） | D6: 1 | E6: 32 | F6: 3
C7: 大学体育（四） | D7: 1 | E7: 32 | F7: 4
C8: 军事技能 | D8: 2 | E8: 2周 | F8: 1
B9: 工程实践与毕业设计 | C9: 大学物理实验 | D9: 1 | E9: 20 | F9: 1
C10: 无人机模拟飞行(1) | D10: 2 | E10: 40 | F10: 2
C11: 电路与模拟电子技术实践 | D11: 2 | E11: 40 | F11: 3
C12: 无人机组装调试与维护 | D12: 1 | E12: 20 | F12: 4
C13: 无人机地面站与任务规划 | D13: 1 | E13: 20 | F13: 4
C14: 无人机实景三维建模 | D14: 2 | E14: 40 | F14: 5
C15: 电气与控制系统设计实训 | D15: 2 | E15: 40 | F15: 5
C16: 行业载荷巡检实训 | D16: 2 | E16: 40 | F16: 5
C17: 认识实习 | D17: 1 | E17: 20 | F17: 6
C18: 无人机系统创新设计 | D18: 1 | E18: 20 | F18: 6
C19: 机器视觉算法综合实训 | D19: 2 | E19: 40 | F19: 6
C20: 无人机外场飞行 | D20: 2 | E20: 40 | F20: 6
C21: 工作实习 | D21: 3 | E21: 3周 | F21: 6
C22: 毕业设计(论文) | D22: 12 | E22: 12周 | F22: 7
B23: 专业必修 | C23: 高级语言程序设计 | D23: 2 | E23: 36 | F23: 1
C24: Python语言设计 | D24: 2 | E24: 36 | F24: 2
C25: 信号与系统 | D25: 1 | E25: 18 | F25: 3
C26: 自动控制原理 | D26: 1 | E26: 18 | F26: 3
C27: 飞控系统原理 | D27: 1 | E27: 18 | F27: 4
C28: 通信与导航 | D28: 1 | E28: 20 | F28: 5
C29: 无人机飞行控制技术 | D29: 1 | E29: 18 | F29: 5
C30: 无人机集群飞行 | D30: 1 | E30: 18 | F30: 6
C31: 嵌入式系统与工程实际 | D31: 1 | E31: 18 | F31: 6
C32: 路径规划 | D32: 1 | E32: 18 | F32: 5
C33: 无人机动力系统 | D33: 1 | E33: 18 | F33: 4
A34: 合计 | D34: =SUM(D4:D33) -> 53 | E34: =SUM(E4:E33)+112+15*20 -> 1156
A35: 实践教学学分占比 | D35: =D34/156 -> 0.33974359
A36: 备注：列出实验、实践、实训等实践教学课程的安排，包括独立设置的实验、实践、实训课程以及其他实验、实践、实训学时≥50%的课程。集中性实践教学环节原则上按1周折算为1学分。
