Workbook

Sheet 附表一
A1: 附表一
A2: 课程计划进程表
A3: 课程性质 | D3: 课程 中文名称 | E3: 课程 英文名称 | F3: 课程学分、学时分配 | J3: 各学年、学期每周课内学时
F4: 学分 | G4: 总 学时 | H4: 讲授学时 | I4: 实践学时 | J4: 1学年 | L4: 2学年 | N4: 3学年 | P4: 4学年
J5: 1 | K5: 2 | L5: 3 | M5: 4 | N5: 5 | O5: 6 | P5: 7 | Q5: 8
A6: 公共教育 | B6: 公共 必修 | C6: 数学与自然科学 | D6: 高等数学（1） | E6: Advanced Mathematics (1) | F6: 4 | G6: 72 | H6: 72 | I6: 0 | J6: 4
D7: 线性代数 | E7: Linear algebra and experiment | F7: 3 | G7: 54 | H7: 54 | I7: 0 | J7: 3
D8: 高等数学（2） | E8: Advanced Mathematics (2) | F8: 5 | G8: 90 | H8: 90 | I8: 0 | K8: 5
D9: 大学物理（1） | E9: College Physics (1) | F9: 3 | G9: 54 | H9: 54 | I9: 0 | K9: 3
D10: 大学物理（2） | E10: College Physics (2) | F10: 2 | G10: 36 | H10: 36 | I10: 0 | L10: 2
D11: 离散数学 | E11: Discrete Mathematics | F11: 3 | G11: 54 | H11: 54 | I11: 0 | M11: 3
D12: 概率论与数理统计 | E12: Probability Theory and Mathematical Statistics | F12: 3 | G12: 54 | H12: 54 | I12: 0 | N12: 3
C13: 大学英语课 | D13: 大学英语（一） | E13: College English (1) | F13: 3 | G13: =F13*18 -> 54 | H13: 54 | I13: 0 | J13: 3
D14: 大学英语（二） | E14: College English (2) | F14: 3 | G14: =F14*18 -> 54 | H14: 54 | I14: 0 | K14: 3
D15: 大学英语（三） | E15: College English (3) | F15: 3 | G15: =F15*18 -> 54 | H15: 54 | I15: 0 | L15: 3
D16: 大学英语（四） | E16: College English (4) | F16: 3 | G16: =F16*18 -> 54 | H16: 54 | I16: 0 | M16: 3
C17: 大学体育课 | D17: 大学体育（一） | E17: Physical Education (1) | F17: 1 | G17: 36 | H17: 4 | I17: 32 | J17: 2
D18: 大学体育（二） | E18: Physical Education (2) | F18: 1 | G18: 36 | H18: 4 | I18: 32 | K18: 2
D19: 大学体育（三） | E19: Physical Education (3) | F19: 1 | G19: 36 | H19: 4 | I19: 32 | L19: 2
D20: 大学体育（四） | E20: Physical Education (4) | F20: 1 | G20: 36 | H20: 4 | I20: 32 | M20: 2
C21: 思政必修课 | D21: 习近平新时代中国特色社会主义思想概论 | E21: Introduction to Xi Jinping's Socialist Thought with Chinese Characteristics for a New Era | F21: 3 | G21: 54 | H21: 54 | I21: 0 | J21: 3
C22: 思政必修课 | D22: 中国近现代史纲要 | E22: Outline of Modern History of China | F22: 3 | G22: 54 | H22: 54 | I22: 0 | K22: 3
D23: 思想道德与法治 | E23: Ideological Morality and Rule of Law | F23: 3 | G23: 54 | H23: 54 | I23: 0 | K23: 3
D24: 国家安全教育 | E24: National Security Education | F24: 1 | G24: 18 | H24: 18 | I24: 0 | L24: 1
D25: 毛泽东思想和中国特色社会主义理论体系概论 | E25: Mao Zedong Thought and Theoretical System of Socialism with Chinese Characteristics | F25: 3 | G25: 54 | H25: 36 | I25: 18 | L25: 3
D26: 马克思主义基本原理 | E26: Introduction to the Basic Principle of Marxism | F26: 3 | G26: 54 | H26: 54 | I26: 0 | M26: 3
D27: 形势与政策 | E27: Situation and Policy | F27: 2 | G27: 36 | H27: 36 | I27: 0 | O27: 2
C28: 通识必修课 | D28: 人文价值 （选修2门） | E28: Humanistic Value | F28: 1 | G28: 18 | H28: 18 | I28: 0 | J28: 4学分【修读要求：学生需从人文价值模块选修2学分，从全球视野、科技应用和交叉创新三个模块选修2学分（3个模块选修其中2个模块），合计修满4学分】
D29: 全球视野 | E29: Global Perspective | F29: 1 | G29: 18 | H29: 18 | I29: 0
D30: 科技应用 | E30: Technology Application | F30: 1 | G30: 18 | H30: 18 | I30: 0
D31: 交叉创新 | E31: Cross-innovation | F31: 1 | G31: 18 | H31: 18 | I31: 0
D32: 军事理论 | E32: Military Theory and Military Skills | F32: 2 | G32: 36 | H32: 36 | I32: 0 | J32: 2
D33: 军事技能 | E33: Military Skills | F33: 2 | G33: 2周（112学时） | H33: 0 | I33: 2周（112学时） | J33: 2
D34: 大学生心理健康教育 | E34: Mental Health Education Of College Students | F34: 2 | G34: 36 | H34: 36 | I34: 0 | J34: 2
D35: 创业基础（理论） | E35: Foundation of Establishing a business（Theory） | F35: 1 | G35: 18 | H35: 18 | I35: 0 | N35: 2
C36: 劳动教育课 | D36: 劳动教育 | E36: Labor Education | F36: 2 | G36: 36 | H36: 20 | I36: 16 | K36: 2
B37: 公共必修应修学分（学时）合计 | F37: =SUM(F6:F36) -> 70 | G37: =I37+H37 -> 1408 | H37: =SUM(H6:H36) -> 1134 | I37: =SUM(I6:I36)+112 -> 274 | J37: =SUM(J6:J27,J32:J36) -> 21 | K37: =SUM(K6:K27,K32:K36) -> 21 | L37: =SUM(L6:L27,L32:L36) -> 11 | M37: =SUM(M6:M27,M32:M36) -> 11 | N37: =SUM(N6:N36) -> 5 | O37: =SUM(O6:O36) -> 2 | P37: =SUM(P6:P36) -> 0 | Q37: =SUM(Q6:Q36) -> 0
B38: 公共 选修课 | C38: 美育限定性 选修课 | D38: 美育限定性选修课须修读满2学分
C39: 校级公选课、学术报告型公选课、社会实践活动认定 | D39: 校级公选课、学术报告型公选课、社会实践活动认定须修读满2学分
C40: 指选课 | D40: 大学生成长成才导论 | E40: Introduction to Growthand Success for College Students | F40: 2 | G40: 36 | H40: 36 | I40: 0 | J40: 2
B41: 公共选修应修学分（学时）合计 | F41: 6 | G41: 109 | H41: 76 | I41: 33 | J41: 2 | K41: 0 | L41: 0 | M41: 0 | N41: 0 | O41: 0 | P41: 0 | Q41: 0
A42: 专业教育 | B42: 专业 必修 | C42: 专业基础课 | D42: 计算机科学导论 | E42: Introduction to Computer Science | F42: 1 | G42: 18 | H42: 18 | I42: 0 | J42: 3
D43: 高级语言程序设计 | E43: Advance Language Programming | F43: 2 | G43: 36 | H43: 36 | I43: 0 | J43: 2
D44: 数据结构与算法 | E44: Data Structures and Algorithm | F44: 3 | G44: 54 | H44: 54 | I44: 0 | L44: 3
D45: 计算机组成原理 | E45: Computer Principle Experiments | F45: 2 | G45: 36 | H45: 36 | I45: 0 | L45: 2
D46: 操作系统原理 | E46: Principle of Operating System | F46: 2 | G46: 36 | H46: 36 | I46: 0 | M46: 2
D47: 计算机网络 | E47: Computer Network | F47: 2 | G47: 36 | H47: 36 | I47: 0 | M47: 2
C48: 专业基础课应修学分（学时）合计 | F48: =SUM(F42:F47) -> 12 | G48: =SUM(G42:G47) -> 216 | H48: =SUM(H42:H47) -> 216 | I48: =SUM(I42:I47) -> 0 | J48: =SUM(J42:J47) -> 5 | K48: =SUM(K42:K47) -> 0 | L48: =SUM(L42:L47) -> 5 | M48: =SUM(M42:M47) -> 4 | ... Q48: =SUM(Q42:Q47) -> 0
C49: 专业核心课 | D49: 面向对象程序设计 | E49: Object Oriented Programming | F49: 1.5+1.5 | G49: 54 | H49: 27 | I49: 27 | K49: 3
D50: Linux系统与应用 | E50: Linux System and Application | F50: 1+1 | G50: 36 | H50: 18 | I50: 18 | L50: 2
D51: 数据库原理 | E51: Principle of Database | F51: 2+1 | G51: 54 | H51: 36 | I51: 18 | M51: 3
D52: 鸿蒙应用开发基础 | E52: Basis of Harmony Application Development | F52: 1+1 | G52: 36 | H52: 18 | I52: 18 | N52: 2
D53: 软件测试与质量保证 | E53: Software Testing and Quality Assurance | F53: 1+1 | G53: 36 | H53: 18 | I53: 18 | N53: 2
D54: 软件工程 | E54: Software Engineering | F54: 2 | G54: 36 | H54: 36 | I54: 0 | N54: 2
D55: 软件配置管理 | E55: Software Configuration Management | F55: 1+1 | G55: 36 | H55: 18 | I55: 18 | N55: 2
D56: 系统分析与设计 | E56: System Analysis and Design | F56: 1+1 | G56: 36 | H56: 18 | I56: 18 | O56: 2
D57: 软件项目管理 | E57: Software Project Management | F57: 1+1 | G57: 36 | H57: 18 | I57: 18 | O57: 2
C58: 专业核心课应修学分（学时）合计 | F58: 20 | G58: =SUM(G49:G57) -> 360 | H58: =SUM(H49:H57) -> 207 | I58: =SUM(I49:I57) -> 153 | J58: =SUM(J49:J57) -> 0 | K58: =SUM(K49:K57) -> 3 | L58: =SUM(L49:L57) -> 2 | M58: =SUM(M49:M57) -> 3 | N58: =SUM(N49:N57) -> 8 | O58: =SUM(O50:O57) -> 4 | P58: =SUM(P49:P57) -> 0 | Q58: =SUM(Q49:Q57) -> 0
B59: 专业必修应修学分（学时）合计 | F59: =SUM(F58,F48) -> 32 | G59: =SUM(G58,G48) -> 576 | H59: =SUM(H58,H48) -> 423 | I59: =SUM(I58,I48) -> 153 | J59: =SUM(J58,J48) -> 5 | K59: =SUM(K58,K48) -> 3 | L59: =SUM(L58,L48) -> 7 | M59: =SUM(M58,M48) -> 7 | ... Q59: =SUM(Q58,Q48) -> 0
B60: 专业选修 | C60: 专业选修课 | D60: 人工智能基础与应用 | E60: Fundamentals of Artificial Intelligence with Applications | F60: 1 | G60: 20 | H60: 0 | I60: 20 | J60: 2
D61: 新媒体运营与推广 | E61: New Media Operations and Promotion | F61: 1+1 | G61: 36 | H61: 18 | I61: 18 | L61: 2
D62: Python程序设计 | E62: Python Programming | F62: 1+1 | G62: 36 | H62: 18 | I62: 18 | L62: 2
D63: 数字图像处理及应用 | E63: Digital Image Processing and Application | F63: 1+1 | G63: 36 | H63: 18 | I63: 18 | M63: 2
D64: 机器学习 | E64: Machine Learning | F64: 2 | G64: 36 | H64: 18 | I64: 18 | N64: 2
D65: 计算机视觉及应用 | E65: Computer Vision and Application | F65: 1+1 | G65: 36 | H65: 18 | I65: 18 | N65: 2
D66: 大语言模型与应用 | E66: Large Language Modeling and Applications | F66: 1+1 | G66: 36 | H66: 18 | I66: 18 | O66: 2
D67: Web编程技术 | E67: Web Programming Technology | F67: 1+1 | G67: 36 | H67: 18 | I67: 18 | M67: 2
D68: 移动应用开发 | E68: Android Application Development | F68: 1+1 | G68: 36 | H68: 18 | I68: 18 | N68: 2
D69: 嵌入式系统 | E69: Embedded System | F69: 2 | G69: 36 | H69: 36 | I69: 0 | N69: 2
D70: 就业指导（理论+实践） | E70: Employment Guidance（theory & practice） | F70: 1+1 | G70: 36 | H70: 18 | I70: 18 | O70: 2
D71: 密码学基础与应用 | E71: Fundamentals and Applications of Cryptography | F71: 1+1 | G71: 36 | H71: 18 | I71: 18 | M71: 2
D72: 网络攻击与防范 | E72: Network Attacks and Prevention | F72: 1+1 | G72: 36 | H72: 18 | I72: 18 | N72: 2
D73: 信息安全技术 | E73: Information Security Technology | F73: 1+1 | G73: 36 | H73: 18 | I73: 18 | O73: 3
B74: 专业选修课应修学分（学时）合计 | F74: 12 | G74: 217 | H74: 112 | I74: =G74-H74 -> 105 | J74: =SUM(J60:J73) -> 2 | K74: =SUM(K60:K73) -> 0 | L74: =SUM(L60:L73) -> 4 | M74: =SUM(M60:M73) -> 6 | N74: =SUM(N60:N73) -> 10 | O74: =SUM(O60:O73) -> 7 | P74: =SUM(P60:P73) -> 0 | Q74: =SUM(Q60:Q73) -> 0
A75: 工程实践与毕业设计 | B75: 工程实践类 | D75: 高级语言程序设计实践 | E75: Practice of Advanced Language Programming | F75: 1 | G75: 20 | H75: 0 | I75: 20 | J75: 2
D76: 大学物理实验（1） | E76: College Physics Experiments（1） | F76: 1 | G76: 20 | H76: 0 | I76: 20 | L76: 2
D77: 程序设计实训 | E77: Practices of Programming | F77: 2 | G77: 40 | H77: 0 | I77: 40 | L77: 3
D78: 计算机组成原理课程设计 | E78: Course Design of Computer Composition Principle | F78: 1 | G78: 20 | H78: 0 | I78: 20 | L78: 3
D79: 数据结构与算法课程设计 | E79: Course Design of Data Structure and Algorithm | F79: 1 | G79: 20 | H79: 0 | I79: 20 | L79: 3
D80: 操作系统课程设计 | E80: Course Design of Operating System | F80: 1 | G80: 20 | H80: 0 | I80: 20 | M80: 3
D81: 数据库应用实践 | E81: Database Application Practice | F81: 2 | G81: 40 | H81: 0 | I81: 40 | M81: 3
D82: 计算机网络实训 | E82: Computer Network Training | F82: 1 | G82: 20 | H82: 0 | I82: 20 | M82: 3
D83: 软件工程课程设计 | E83: Course Design of Software Engineering | F83: 1 | G83: 20 | H83: 0 | I83: 20 | N83: 3
D84: 项目开发实训1 | E84: Project Development Training1 | F84: 2 | G84: 40 | H84: 0 | I84: 40 | N84: 2
D85: 项目开发实训2 | E85: Project Development Training2 | F85: 2 | G85: 40 | H85: 0 | I85: 40 | O85: 3
D86: 鸿蒙应用开发实训 | E86: Practice of Harmony Application Development | F86: 2 | G86: 40 | H86: 0 | I86: =G86 -> 40 | O86: 3 | S86: 创新教育
D87: 创业基础（实践） | E87: Foundation of Establishing a business（Practice） | F87: 2 | G87: 40 | H87: 0 | I87: 40 | O87: 3
D88: 认识实习 | E88: Cognition Practice | F88: 1 | G88: 20 | H88: 0 | I88: 20 | M88: 1周
D89: 企业项目实训 | E89: Enterprise Project Training | F89: 1 | G89: 20 | H89: 0 | I89: 20 | O89: 1周 | S89: 创新教育
D90: 工作实习 | E90: Work Practice | F90: 3 | G90: 3周 | H90: 0 | I90: 3周 | P90: 3周
D91: 毕业设计 | E91: Graduation Project | F91: 12 | G91: 12周 | H91: 0 | I91: 12周 | P91: 6周 | Q91: 6周
B92: 工程实践与毕业设计应修学分（学时）合计 | F92: =SUM(F75:F91) -> 36 | G92: 720 | H92: =SUM(H76:H91) -> 0 | I92: 720 | J92: =SUM(J76:J91) -> 0 | K92: =SUM(K76:K91) -> 0 | L92: =SUM(L76:L91) -> 11 | M92: 10 | N92: =SUM(N76:N91) -> 5 | O92: 10 | P92: 9 | Q92: 6
A93: 备注： 1.校级公选课即通识选修课； 2.社会实践活动可通过参加全国高校大学竞赛（教育部认定大学生学科竞赛目录）来认定一定的学分； 2.就业指导（理论+实践）为限定选修； 3.认识实习一般安排在暑假进行； 4.选修课分三个方向课程： 方向一 人工智能：数字图像处理及应用、机器学习、计算机视觉及应用、大语言模型与应用； 方向二 网络安全：密码学基础与应用、网络攻击与防范、信息安全技术、Web编程技术； 方向三 系统开发：Python程序设计、多媒体信息处理、Web编程技术、移动应用开发、嵌入式系统。

Sheet 附表二
A1: 附表二
A2: 各学期学分分配表
A3: 课程类别 | B3: 课程性质 | C3: 总学分 | D3: 总学时 | E3: 学分与学期分配
E4: 一 | F4: 二 | G4: 三 | H4: 四 | I4: 五 | J4: 六 | K4: 七 | L4: 八
A5: 公共教育 | B5: 数学与自然科学 | C5: =SUM([1]附表一!F6:F12) -> 23 | D5: =SUM([1]附表一!G6:G12) -> 414 | E5: 7 | F5: 8 | G5: 2 | H5: 3 | I5: 3 | J5: 0 | K5: 0 | L5: 0
B6: 大学英语课 | C6: =SUM(附表一!F13:F16) -> 12 | D6: =SUM(附表一!G13:G16) -> 216 | E6: 3 | F6: 3 | G6: 3 | H6: 3 | I6: 0 | J6: 0 | K6: 0 | L6: 0
B7: 大学体育课 | C7: =SUM(附表一!F17:F20) -> 4 | D7: =SUM(附表一!G17:G20) -> 144 | E7: 1 | F7: 1 | G7: 1 | H7: 1 | I7: 0 | J7: 0 | K7: 0 | L7: 0
B8: 思政必修课 | C8: =SUM(附表一!F21:F27) -> 18 | D8: =SUM(附表一!G21:G27) -> 324 | E8: 3 | F8: 6 | G8: 4 | H8: 3 | I8: 0 | J8: 2 | K8: 0 | L8: 0
B9: 通识必修课 | C9: =SUM(附表一!F28:F35) -> 11 | D9: 274 | E9: 7 | F9: 1 | G9: 1 | H9: 1 | I9: 1 | J9: 0 | K9: 0 | L9: 0
B10: 劳动教育课 | C10: 2 | D10: 36 | E10: 0 | F10: 2 | G10: 0 | H10: 0 | I10: 0 | J10: 0 | K10: 0 | L10: 0
B11: 公共选修课 | C11: 6 | D11: 109 | E11: 2 | F11: 0 | G11: 1 | H11: 1 | I11: 0 | J11: 2 | K11: 0 | L11: 0
A12: 专业教育 | B12: 专业基础课 | C12: =[2]附表一!F47 -> 12 | D12: =[2]附表一!G47 -> 216 | E12: 1 | F12: 3 | G12: 2 | H12: 0 | I12: 4 | J12: 2 | K12: 0 | L12: 0
B13: 专业核心课 | C13: =[2]附表一!F57 -> 20 | D13: =[2]附表一!G57 -> 360 | E13: 2 | F13: 0 | G13: 5 | H13: 7 | I13: 4 | J13: 2 | K13: 0 | L13: 0
B14: 专业选修课 | C14: 12 | D14: =附表一!G74 -> 217 | E14: 1 | F14: 0 | G14: 2 | H14: 2 | I14: 5 | J14: 2 | K14: 0 | L14: 0
B15: 工程实践与毕业设计 | C15: =[2]附表一!F91 -> 36 | D15: =[2]附表一!G91 -> 720 | E15: 1 | F15: 0 | G15: 5 | H15: 5 | I15: 3 | J15: 7 | K15: 9 | L15: =[2]附表一!Q91 -> 6
A16: 总计 | C16: =SUM(C5:C15) -> 156 | D16: =SUM(D5:D15) -> 3030 | E16: =SUM(E5:E15) -> 28 | F16: =SUM(F5:F15) -> 24 | G16: =SUM(G5:G15) -> 26 | H16: =SUM(H5:H15) -> 26 | I16: =SUM(I5:I15) -> 20 | J16: =SUM(J5:J15) -> 17 | K16: 9 | L16: =SUM(L5:L15) -> 6
A17: 特别说明 | C17: 专业实习学期为第（6-7）学期，除实习学期和第八学期外，每学期修读的各类课程总学分上限为（28）学分。

Sheet 附表三
A1: 附表三
A2: 实践教学计划表
A3: 课程类别 | B3: 课程性质 | C3: 课程名称 | D3: 学分 | E3: 开设学时或周数（课程设计、实习实训等环节按周计算） | F3: 开设学期
A4: 实践教学 | B4: 公共 必修 | C4: 大学体育（一） | D4: 1 | E4: 32 | F4: 1
C5: 大学体育（二） | D5: 1 | E5: 32 | F5: 2
C6: 大学体育（三） | D6: 1 | E6: 32 | F6: 3
C7: 大学体育（四） | D7: 1 | E7: 32 | F7: 4
C8: 军事技能 | D8: 2 | E8: 2周 | F8: 1
B9: 工程实践与毕业设计 | C9: 高级语言程序设计实践 | D9: 1 | E9: 20 | F9: 1
C10: 大学物理实验 | D10: 1 | E10: 20 | F10: 3
C11: 程序设计实训 | D11: 2 | E11: 40 | F11: 3
C12: 计算机组成原理课程设计 | D12: 1 | E12: 20 | F12: 3
C13: 数据结构与算法课程设计 | D13: 1 | E13: 20 | F13: 3
C14: 操作系统课程设计 | D14: 1 | E14: 20 | F14: 4
C15: 数据库应用实践 | D15: 2 | E15: 40 | F15: 4
C16: 计算机网络实训 | D16: 1 | E16: 20 | F16: 4
C17: 软件工程课程设计 | D17: 1 | E17: 20 | F17: 5
C18: 项目开发实训1 | D18: 2 | E18: 40 | F18: 5
C19: 项目开发实训2 | D19: 2 | E19: 40 | F19: 6
C20: 鸿蒙应用开发实训 | D20: 2 | E20: 40 | F20: 6
C21: 创业基础（实践） | D21: 2 | E21: 40 | F21: 6
... C23: 企业项目实训 | D23: 1 | E23: 20 | F23: 7
C24: 工作实习 | D24: 3 | E24: 3周 | F24: 7
C25: 毕业设计 | D25: 12 | E25: 12周 | F25: 8
B26: 专业必修 | C26: 面向对象程序设计 | D26: 1.5 | E26: 27 | F26: 2
C27: Linux系统与应用 | D27: 1 | E27: 18 | F27: 3
C28: 数据库原理 | D28: 1 | E28: 18 | F28: 4
C29: 鸿蒙应用开发基础 | D29: 1 | E29: 18 | F29: 5
C30: 软件测试与质量保证 | D30: 1 | E30: 18 | F30: 5
C31: 软件配置管理 | D31: 1 | E31: 18 | F31: 5
C32: 软件项目管理 | D32: 1 | E32: 18 | F32: 6
C33: 系统分析与设计 | D33: 1 | E33: 18 | F33: 6
B34: 专业选修（限定选修） | C34: 人工智能基础与应用 | D34: 1 | E34: 20 | F34: 1
C35: 就业指导（理论+实践） | D35: 1 | E35: 18 | F35: 6
A36: 合计 | D36: =SUM(D4:D35) -> 52.5 | E36: =SUM(E4:E23)+SUM(E26:E35)+15*20+112 -> 1151
A37: 实践教学学分占比 | D37: =D36/156 -> 0.33653846
A38: 备注：列出实验、实践、实训等实践教学课程的安排，包括独立设置的实验、实践、实训课程以及其他实验、实践、实训学时≥50%的课程。集中性实践教学环节原则上按1周折算为1学分。
